Package: SIMD Version: 1.27.0 Command: /Library/Frameworks/R.framework/Resources/bin/R CMD build --keep-empty-dirs --no-resave-data SIMD StartedAt: 2025-10-24 17:46:04 -0400 (Fri, 24 Oct 2025) EndedAt: 2025-10-24 17:46:09 -0400 (Fri, 24 Oct 2025) EllapsedTime: 5.1 seconds RetCode: 0 Status: OK PackageFile: SIMD_1.27.0.tar.gz PackageFileSize: 332.9 KiB