Package: SIMD Version: 1.27.0 Command: rm -rf SIMD.buildbin-libdir && mkdir SIMD.buildbin-libdir && /Users/biocbuild/BBS/utils/build-universal.sh SIMD_1.27.0.tar.gz /Library/Frameworks/R.framework/Resources/bin/R SIMD.buildbin-libdir StartedAt: 2025-10-24 23:20:08 -0400 (Fri, 24 Oct 2025) EndedAt: 2025-10-24 23:20:10 -0400 (Fri, 24 Oct 2025) EllapsedTime: 2.0 seconds RetCode: 0 Status: OK PackageFile: SIMD_1.27.0.tgz PackageFileSize: 358.4 KiB