Package: SIMD Version: 1.28.0 Maintainer: Jiadi Zhu MaintainerEmail: 2160090406 at email.szu.edu.cn git_url: https://git.bioconductor.org/packages/SIMD git_branch: RELEASE_3_22 git_last_commit: 0910665 git_last_commit_date: 2025-10-29 10:47:35 -0400 (Wed, 29 Oct 2025)