Package: SIMAT Version: 1.42.0 Command: /home/biocbuild/bbs-3.22-bioc/R/bin/R CMD check --install=check:SIMAT.install-out.txt --library=/home/biocbuild/bbs-3.22-bioc/R/site-library --timings SIMAT_1.42.0.tar.gz StartedAt: 2025-10-31 04:06:01 -0400 (Fri, 31 Oct 2025) EndedAt: 2025-10-31 04:07:17 -0400 (Fri, 31 Oct 2025) EllapsedTime: 76.1 seconds RetCode: 0 Status: OK CheckDir: SIMAT.Rcheck Warnings: 0