Package: SIMAT Version: 1.41.0 Command: /home/biocbuild/bbs-3.22-bioc/R/bin/R CMD build --keep-empty-dirs --no-resave-data --md5 SIMAT StartedAt: 2025-10-24 20:14:03 -0400 (Fri, 24 Oct 2025) EndedAt: 2025-10-24 20:14:22 -0400 (Fri, 24 Oct 2025) EllapsedTime: 19.0 seconds RetCode: 0 Status: OK PackageFile: SIMAT_1.41.0.tar.gz PackageFileSize: 1.04 MiB