Package: SIMAT Version: 1.41.0 Command: /Library/Frameworks/R.framework/Resources/bin/R CMD INSTALL SIMAT StartedAt: 2025-10-24 15:32:27 -0400 (Fri, 24 Oct 2025) EndedAt: 2025-10-24 15:32:40 -0400 (Fri, 24 Oct 2025) EllapsedTime: 12.2 seconds RetCode: 0 Status: OK