Package: SIMAT Version: 1.41.0 Command: /Library/Frameworks/R.framework/Resources/bin/R CMD build --keep-empty-dirs --no-resave-data SIMAT StartedAt: 2025-10-24 18:48:20 -0400 (Fri, 24 Oct 2025) EndedAt: 2025-10-24 18:48:46 -0400 (Fri, 24 Oct 2025) EllapsedTime: 26.3 seconds RetCode: 0 Status: OK PackageFile: SIMAT_1.41.0.tar.gz PackageFileSize: 1.038 MiB