Package: SIMAT Version: 1.41.0 Command: /Library/Frameworks/R.framework/Resources/bin/R CMD INSTALL SIMAT StartedAt: 2025-10-26 15:10:20 -0400 (Sun, 26 Oct 2025) EndedAt: 2025-10-26 15:10:24 -0400 (Sun, 26 Oct 2025) EllapsedTime: 3.7 seconds RetCode: 0 Status: OK