Package: SIM Version: 1.80.0 Command: /Library/Frameworks/R.framework/Resources/bin/R CMD INSTALL SIM StartedAt: 2025-11-03 15:30:36 -0500 (Mon, 03 Nov 2025) EndedAt: 2025-11-03 15:31:02 -0500 (Mon, 03 Nov 2025) EllapsedTime: 26.4 seconds RetCode: 0 Status: OK