Package: SIM Version: 1.80.0 Command: /Library/Frameworks/R.framework/Resources/bin/R CMD build --keep-empty-dirs --no-resave-data SIM StartedAt: 2025-11-03 18:48:44 -0500 (Mon, 03 Nov 2025) EndedAt: 2025-11-03 18:49:27 -0500 (Mon, 03 Nov 2025) EllapsedTime: 43.3 seconds RetCode: 0 Status: OK PackageFile: SIM_1.80.0.tar.gz PackageFileSize: 460.4 KiB