Package: SIM Version: 1.79.0 Command: /Library/Frameworks/R.framework/Resources/bin/R CMD INSTALL SIM StartedAt: 2025-10-24 15:12:11 -0400 (Fri, 24 Oct 2025) EndedAt: 2025-10-24 15:12:19 -0400 (Fri, 24 Oct 2025) EllapsedTime: 7.3 seconds RetCode: 0 Status: OK