Package: SIM Version: 1.79.0 Command: /Library/Frameworks/R.framework/Resources/bin/R CMD build --keep-empty-dirs --no-resave-data SIM StartedAt: 2025-10-24 17:45:54 -0400 (Fri, 24 Oct 2025) EndedAt: 2025-10-24 17:46:10 -0400 (Fri, 24 Oct 2025) EllapsedTime: 15.2 seconds RetCode: 0 Status: OK PackageFile: SIM_1.79.0.tar.gz PackageFileSize: 461.6 KiB