Package: SICtools Version: 1.39.0 Command: /home/biocbuild/bbs-3.22-bioc/R/bin/R CMD INSTALL SICtools StartedAt: 2025-10-24 15:27:44 -0400 (Fri, 24 Oct 2025) EndedAt: 2025-10-24 15:28:18 -0400 (Fri, 24 Oct 2025) EllapsedTime: 33.8 seconds RetCode: 0 Status: OK