Package: SICtools Version: 1.39.0 Command: /Library/Frameworks/R.framework/Resources/bin/R CMD INSTALL SICtools StartedAt: 2025-10-24 15:13:44 -0400 (Fri, 24 Oct 2025) EndedAt: 2025-10-24 15:13:56 -0400 (Fri, 24 Oct 2025) EllapsedTime: 12.3 seconds RetCode: 0 Status: OK