Package: SIAMCAT Version: 2.13.0 Command: /home/biocbuild/bbs-3.22-bioc/R/bin/R CMD build --keep-empty-dirs --no-resave-data --md5 SIAMCAT StartedAt: 2025-10-24 20:13:00 -0400 (Fri, 24 Oct 2025) EndedAt: 2025-10-24 20:16:07 -0400 (Fri, 24 Oct 2025) EllapsedTime: 186.2 seconds RetCode: 0 Status: OK PackageFile: SIAMCAT_2.13.0.tar.gz PackageFileSize: 18.85 MiB