Package: SGSeq Version: 1.43.1 Command: /home/biocbuild/bbs-3.22-bioc/R/bin/R CMD INSTALL SGSeq StartedAt: 2025-10-24 15:54:34 -0400 (Fri, 24 Oct 2025) EndedAt: 2025-10-24 15:55:13 -0400 (Fri, 24 Oct 2025) EllapsedTime: 39.1 seconds RetCode: 0 Status: OK