Package: SGSeq Version: 1.44.0 Command: /Library/Frameworks/R.framework/Resources/bin/R CMD INSTALL SGSeq StartedAt: 2025-10-31 15:26:40 -0400 (Fri, 31 Oct 2025) EndedAt: 2025-10-31 15:26:57 -0400 (Fri, 31 Oct 2025) EllapsedTime: 16.8 seconds RetCode: 0 Status: OK