Package: SGSeq Version: 1.44.0 Command: /Library/Frameworks/R.framework/Resources/bin/R CMD build --keep-empty-dirs --no-resave-data SGSeq StartedAt: 2025-10-31 17:48:08 -0400 (Fri, 31 Oct 2025) EndedAt: 2025-10-31 17:49:25 -0400 (Fri, 31 Oct 2025) EllapsedTime: 76.9 seconds RetCode: 0 Status: OK PackageFile: SGSeq_1.44.0.tar.gz PackageFileSize: 1.763 MiB