Package: SGCP Version: 1.9.0 Command: /home/biocbuild/bbs-3.22-bioc/R/bin/R CMD INSTALL SGCP StartedAt: 2025-10-24 15:51:15 -0400 (Fri, 24 Oct 2025) EndedAt: 2025-10-24 15:52:08 -0400 (Fri, 24 Oct 2025) EllapsedTime: 53.3 seconds RetCode: 0 Status: OK