Package: SEtools Version: 1.23.3 Command: /home/biocbuild/bbs-3.22-bioc/R/bin/R CMD INSTALL SEtools StartedAt: 2025-10-24 15:39:19 -0400 (Fri, 24 Oct 2025) EndedAt: 2025-10-24 15:39:54 -0400 (Fri, 24 Oct 2025) EllapsedTime: 34.3 seconds RetCode: 0 Status: OK