Package: SEtools Version: 1.23.3 Command: /home/biocbuild/bbs-3.22-bioc/R/bin/R CMD build --keep-empty-dirs --no-resave-data --md5 SEtools StartedAt: 2025-10-27 20:03:59 -0400 (Mon, 27 Oct 2025) EndedAt: 2025-10-27 20:04:51 -0400 (Mon, 27 Oct 2025) EllapsedTime: 52.0 seconds RetCode: 0 Status: OK PackageFile: SEtools_1.23.3.tar.gz PackageFileSize: 539.1 KiB