Package: SEtools Version: 1.24.0 Command: /Library/Frameworks/R.framework/Resources/bin/R CMD build --keep-empty-dirs --no-resave-data SEtools StartedAt: 2025-11-10 17:44:41 -0500 (Mon, 10 Nov 2025) EndedAt: 2025-11-10 17:45:03 -0500 (Mon, 10 Nov 2025) EllapsedTime: 21.2 seconds RetCode: 0 Status: OK PackageFile: SEtools_1.24.0.tar.gz PackageFileSize: 538.6 KiB