Package: SETA Version: 0.99.7 Command: /home/biocbuild/bbs-3.22-bioc/R/bin/R CMD INSTALL SETA StartedAt: 2025-10-24 15:29:55 -0400 (Fri, 24 Oct 2025) EndedAt: 2025-10-24 15:30:18 -0400 (Fri, 24 Oct 2025) EllapsedTime: 23.1 seconds RetCode: 0 Status: OK