Package: SETA Version: 0.99.7 Command: /home/biocbuild/bbs-3.22-bioc/R/bin/R CMD build --keep-empty-dirs --no-resave-data --md5 SETA StartedAt: 2025-10-24 20:11:37 -0400 (Fri, 24 Oct 2025) EndedAt: 2025-10-24 20:13:01 -0400 (Fri, 24 Oct 2025) EllapsedTime: 84.1 seconds RetCode: 0 Status: OK PackageFile: SETA_0.99.7.tar.gz PackageFileSize: 4.651 MiB