Package: SELEX Version: 1.42.0 Command: /Library/Frameworks/R.framework/Resources/bin/R CMD INSTALL SELEX StartedAt: 2025-11-02 15:08:11 -0500 (Sun, 02 Nov 2025) EndedAt: 2025-11-02 15:08:15 -0500 (Sun, 02 Nov 2025) EllapsedTime: 4.5 seconds RetCode: 0 Status: OK