Package: SELEX Version: 1.42.0 Command: rm -rf SELEX.buildbin-libdir && mkdir SELEX.buildbin-libdir && /Users/biocbuild/BBS/utils/build-universal.sh SELEX_1.42.0.tar.gz /Library/Frameworks/R.framework/Resources/bin/R SELEX.buildbin-libdir StartedAt: 2025-11-04 23:20:01 -0500 (Tue, 04 Nov 2025) EndedAt: 2025-11-04 23:20:06 -0500 (Tue, 04 Nov 2025) EllapsedTime: 5.1 seconds RetCode: 0 Status: OK PackageFile: SELEX_1.42.0.tgz PackageFileSize: 2.866 MiB