Package: SDAMS Version: 1.30.0 Command: /Library/Frameworks/R.framework/Resources/bin/R CMD INSTALL SDAMS StartedAt: 2025-11-03 15:33:24 -0500 (Mon, 03 Nov 2025) EndedAt: 2025-11-03 15:34:04 -0500 (Mon, 03 Nov 2025) EllapsedTime: 40.1 seconds RetCode: 0 Status: OK