Package: SDAMS Version: 1.30.0 Command: /Library/Frameworks/R.framework/Resources/bin/R CMD build --keep-empty-dirs --no-resave-data SDAMS StartedAt: 2025-10-31 18:46:54 -0400 (Fri, 31 Oct 2025) EndedAt: 2025-10-31 18:47:55 -0400 (Fri, 31 Oct 2025) EllapsedTime: 60.4 seconds RetCode: 0 Status: OK PackageFile: SDAMS_1.30.0.tar.gz PackageFileSize: 1.279 MiB