Package: SDAMS Version: 1.30.0 Command: rm -rf SDAMS.buildbin-libdir && mkdir SDAMS.buildbin-libdir && /Users/biocbuild/BBS/utils/build-universal.sh SDAMS_1.30.0.tar.gz /Library/Frameworks/R.framework/Resources/bin/R SDAMS.buildbin-libdir StartedAt: 2025-11-01 01:57:12 -0400 (Sat, 01 Nov 2025) EndedAt: 2025-11-01 01:57:56 -0400 (Sat, 01 Nov 2025) EllapsedTime: 44.0 seconds RetCode: 0 Status: OK PackageFile: SDAMS_1.30.0.tgz PackageFileSize: 1.103 MiB