Package: SDAMS Version: 1.30.0 Maintainer: Yuntong Li MaintainerEmail: liyuntong0704 at gmail.com git_url: https://git.bioconductor.org/packages/SDAMS git_branch: RELEASE_3_22 git_last_commit: 9d30a5b git_last_commit_date: 2025-10-29 10:44:53 -0500 (Wed, 29 Oct 2025)