Package: SCnorm Version: 1.31.1 Command: /home/biocbuild/bbs-3.22-bioc/R/bin/R CMD build --keep-empty-dirs --no-resave-data --md5 SCnorm StartedAt: 2025-10-27 19:55:12 -0400 (Mon, 27 Oct 2025) EndedAt: 2025-10-27 19:56:39 -0400 (Mon, 27 Oct 2025) EllapsedTime: 87.1 seconds RetCode: 0 Status: OK PackageFile: SCnorm_1.31.1.tar.gz PackageFileSize: 2.979 MiB