Package: SCnorm Version: 1.32.0 Command: /Library/Frameworks/R.framework/Resources/bin/R CMD build --keep-empty-dirs --no-resave-data SCnorm StartedAt: 2025-11-10 17:40:25 -0500 (Mon, 10 Nov 2025) EndedAt: 2025-11-10 17:41:07 -0500 (Mon, 10 Nov 2025) EllapsedTime: 41.5 seconds RetCode: 0 Status: OK PackageFile: SCnorm_1.32.0.tar.gz PackageFileSize: 2.978 MiB