Package: SCOPE Version: 1.21.0 Command: /Library/Frameworks/R.framework/Resources/bin/R CMD INSTALL SCOPE StartedAt: 2025-10-28 15:19:26 -0400 (Tue, 28 Oct 2025) EndedAt: 2025-10-28 15:19:40 -0400 (Tue, 28 Oct 2025) EllapsedTime: 14.5 seconds RetCode: 0 Status: OK