Package: SCOPE Version: 1.21.0 Command: rm -rf SCOPE.buildbin-libdir && mkdir SCOPE.buildbin-libdir && /Users/biocbuild/BBS/utils/build-universal.sh SCOPE_1.21.0.tar.gz /Library/Frameworks/R.framework/Resources/bin/R SCOPE.buildbin-libdir StartedAt: 2025-10-28 23:15:28 -0400 (Tue, 28 Oct 2025) EndedAt: 2025-10-28 23:15:44 -0400 (Tue, 28 Oct 2025) EllapsedTime: 16.3 seconds RetCode: 0 Status: OK PackageFile: SCOPE_1.21.0.tgz PackageFileSize: 580 KiB