Package: SCArray Version: 1.17.0 Command: /home/biocbuild/R/R/bin/R CMD build --keep-empty-dirs --no-resave-data SCArray StartedAt: 2025-10-21 02:49:20 -0000 (Tue, 21 Oct 2025) EndedAt: 2025-10-21 02:50:44 -0000 (Tue, 21 Oct 2025) EllapsedTime: 84.1 seconds RetCode: 0 Status: OK PackageFile: SCArray_1.17.0.tar.gz PackageFileSize: 1.28 MiB