Package: SCArray Version: 1.17.0 Command: /Library/Frameworks/R.framework/Resources/bin/R CMD INSTALL SCArray StartedAt: 2025-10-27 15:45:38 -0400 (Mon, 27 Oct 2025) EndedAt: 2025-10-27 15:46:34 -0400 (Mon, 27 Oct 2025) EllapsedTime: 55.8 seconds RetCode: 0 Status: OK