Package: SCArray Version: 1.17.0 Command: /Library/Frameworks/R.framework/Resources/bin/R CMD build --keep-empty-dirs --no-resave-data SCArray StartedAt: 2025-10-27 18:29:44 -0400 (Mon, 27 Oct 2025) EndedAt: 2025-10-27 18:31:17 -0400 (Mon, 27 Oct 2025) EllapsedTime: 93.9 seconds RetCode: 0 Status: OK PackageFile: SCArray_1.17.0.tar.gz PackageFileSize: 1.359 MiB