Package: SCArray Version: 1.17.0 Command: rm -rf SCArray.buildbin-libdir && mkdir SCArray.buildbin-libdir && /Users/biocbuild/BBS/utils/build-universal.sh SCArray_1.17.0.tar.gz /Library/Frameworks/R.framework/Resources/bin/R SCArray.buildbin-libdir StartedAt: 2025-10-27 23:17:44 -0400 (Mon, 27 Oct 2025) EndedAt: 2025-10-27 23:18:01 -0400 (Mon, 27 Oct 2025) EllapsedTime: 17.3 seconds RetCode: 0 Status: OK PackageFile: SCArray_1.17.0.tgz PackageFileSize: 2.348 MiB