Package: SCArray.sat Version: 1.9.0 Command: /home/biocbuild/bbs-3.22-bioc/R/bin/R CMD check --install=check:SCArray.sat.install-out.txt --library=/home/biocbuild/bbs-3.22-bioc/R/site-library --timings SCArray.sat_1.9.0.tar.gz StartedAt: 2025-10-25 03:42:50 -0400 (Sat, 25 Oct 2025) EndedAt: 2025-10-25 03:49:13 -0400 (Sat, 25 Oct 2025) EllapsedTime: 383.7 seconds RetCode: 0 Status: OK CheckDir: SCArray.sat.Rcheck Warnings: 0