Package: SCArray.sat Version: 1.9.0 Command: /Library/Frameworks/R.framework/Resources/bin/R CMD check --install=check:SCArray.sat.install-out.txt --library=/Library/Frameworks/R.framework/Resources/library --no-vignettes --timings SCArray.sat_1.9.0.tar.gz StartedAt: 2025-10-28 23:56:32 -0400 (Tue, 28 Oct 2025) EndedAt: 2025-10-29 00:02:04 -0400 (Wed, 29 Oct 2025) EllapsedTime: 331.7 seconds RetCode: 0 Status: OK CheckDir: SCArray.sat.Rcheck Warnings: 0