Package: SCArray.sat Version: 1.9.0 Command: /Library/Frameworks/R.framework/Resources/bin/R CMD build --keep-empty-dirs --no-resave-data SCArray.sat StartedAt: 2025-10-24 17:37:10 -0400 (Fri, 24 Oct 2025) EndedAt: 2025-10-24 17:37:46 -0400 (Fri, 24 Oct 2025) EllapsedTime: 36.4 seconds RetCode: 0 Status: OK PackageFile: SCArray.sat_1.9.0.tar.gz PackageFileSize: 685.6 KiB