Package: SCANVIS Version: 1.23.0 Command: /home/biocbuild/bbs-3.22-bioc/R/bin/R CMD INSTALL SCANVIS StartedAt: 2025-10-24 15:37:59 -0400 (Fri, 24 Oct 2025) EndedAt: 2025-10-24 15:38:29 -0400 (Fri, 24 Oct 2025) EllapsedTime: 30.0 seconds RetCode: 0 Status: OK