Package: SCANVIS Version: 1.23.0 Command: /home/biocbuild/bbs-3.22-bioc/R/bin/R CMD build --keep-empty-dirs --no-resave-data --md5 SCANVIS StartedAt: 2025-10-24 19:57:33 -0400 (Fri, 24 Oct 2025) EndedAt: 2025-10-24 19:58:31 -0400 (Fri, 24 Oct 2025) EllapsedTime: 58.1 seconds RetCode: 0 Status: OK PackageFile: SCANVIS_1.23.0.tar.gz PackageFileSize: 471.6 KiB