Package: SCANVIS Version: 1.24.0 Command: /Library/Frameworks/R.framework/Resources/bin/R CMD build --keep-empty-dirs --no-resave-data SCANVIS StartedAt: 2025-11-10 17:37:18 -0500 (Mon, 10 Nov 2025) EndedAt: 2025-11-10 17:37:44 -0500 (Mon, 10 Nov 2025) EllapsedTime: 25.3 seconds RetCode: 0 Status: OK PackageFile: SCANVIS_1.24.0.tar.gz PackageFileSize: 470.3 KiB