Package: SCANVIS Version: 1.24.0 Command: rm -rf SCANVIS.buildbin-libdir && mkdir SCANVIS.buildbin-libdir && /Users/biocbuild/BBS/utils/build-universal.sh SCANVIS_1.24.0.tar.gz /Library/Frameworks/R.framework/Resources/bin/R SCANVIS.buildbin-libdir StartedAt: 2025-11-10 23:35:16 -0500 (Mon, 10 Nov 2025) EndedAt: 2025-11-10 23:35:30 -0500 (Mon, 10 Nov 2025) EllapsedTime: 14.2 seconds RetCode: 0 Status: OK PackageFile: SCANVIS_1.24.0.tgz PackageFileSize: 430.1 KiB