Package: SCAN.UPC Version: 2.52.0 Command: /home/biocbuild/bbs-3.22-bioc/R/bin/R CMD check --install=check:SCAN.UPC.install-out.txt --library=/home/biocbuild/bbs-3.22-bioc/R/site-library --timings SCAN.UPC_2.52.0.tar.gz StartedAt: 2025-11-01 03:45:46 -0400 (Sat, 01 Nov 2025) EndedAt: 2025-11-01 03:49:46 -0400 (Sat, 01 Nov 2025) EllapsedTime: 240.2 seconds RetCode: 0 Status: OK CheckDir: SCAN.UPC.Rcheck Warnings: 0