Package: SCAN.UPC Version: 2.51.0 Command: /Library/Frameworks/R.framework/Resources/bin/R CMD INSTALL SCAN.UPC StartedAt: 2025-10-27 15:28:59 -0400 (Mon, 27 Oct 2025) EndedAt: 2025-10-27 15:29:46 -0400 (Mon, 27 Oct 2025) EllapsedTime: 47.0 seconds RetCode: 0 Status: OK