Package: SCAN.UPC Version: 2.51.0 Command: /Library/Frameworks/R.framework/Resources/bin/R CMD build --keep-empty-dirs --no-resave-data SCAN.UPC StartedAt: 2025-10-27 18:29:13 -0400 (Mon, 27 Oct 2025) EndedAt: 2025-10-27 18:30:02 -0400 (Mon, 27 Oct 2025) EllapsedTime: 49.0 seconds RetCode: 0 Status: OK PackageFile: SCAN.UPC_2.51.0.tar.gz PackageFileSize: 688.4 KiB