Package: SCAN.UPC Version: 2.51.0 Command: rm -rf SCAN.UPC.buildbin-libdir && mkdir SCAN.UPC.buildbin-libdir && /Users/biocbuild/BBS/utils/build-universal.sh SCAN.UPC_2.51.0.tar.gz /Library/Frameworks/R.framework/Resources/bin/R SCAN.UPC.buildbin-libdir StartedAt: 2025-10-25 02:01:46 -0400 (Sat, 25 Oct 2025) EndedAt: 2025-10-25 02:02:35 -0400 (Sat, 25 Oct 2025) EllapsedTime: 48.5 seconds RetCode: 0 Status: OK PackageFile: SCAN.UPC_2.51.0.tgz PackageFileSize: 552.8 KiB