Package: SCAN.UPC Version: 2.51.0 Command: /Library/Frameworks/R.framework/Resources/bin/R CMD INSTALL SCAN.UPC StartedAt: 2025-10-26 15:18:35 -0400 (Sun, 26 Oct 2025) EndedAt: 2025-10-26 15:18:49 -0400 (Sun, 26 Oct 2025) EllapsedTime: 14.3 seconds RetCode: 0 Status: OK